BEGIN:VCALENDAR
VERSION:2.0
PRODID:icalendar-ruby
CALSCALE:GREGORIAN
METHOD:PUBLISH
BEGIN:VEVENT
DTSTAMP:20260422T131551Z
UID:24-1187067@siliconvalleycsl.com
DTSTART:20260426T190000Z
DTEND:20260426T210000Z
CLASS:PUBLIC
CREATED:20260416T201558
DESCRIPTION:Join us as we come together in love and gratitude to celebrate 
 Merilee Lawson as she begins a new chapter in Tucson with her mother.\nMer
 ilee has been a steady\, caring\, and powerful presence in the life of our
  community\, serving as our Sunday Service Director and Operations Lead. H
 er impact is deeply woven into who we are\, and while we will miss her\, w
 e also celebrate the beautiful unfolding of her life.\nLet’s gather in c
 ommunity to honor her\, share a meal\, and send her off with love\, blessi
 ngs\, and appreciation.\nEvent Details: Pacific Catch Sunday\, April 26\, 
 2026 12:00 PM (following Sunday Gathering)\n RSVP Required\nWhat to Bring:
 • $20 cash to contribute toward your meal• Optional: gift cards or cas
 h for Merilee (something easy for her to travel with)\nThe Center will cov
 er any remaining balance beyond the meal contribution.\nLet’s surround M
 erilee with love as she steps into what’s next.
LAST-MODIFIED:20260416T201558
LOCATION:Pacific Catch | Pruneyard | 1875 S Bascom Ave #550\, Campbell\, CA
  95008
SUMMARY:Going Away Gathering for Merilee Lawson
URL;VALUE=URI:https://siliconvalleycsl.com/events/going-away-gathering-for-
 merilee-lawson/2026-04-26
ATTACH;FILENAME=Merilee-Lawson-2.jpg;FMTTYPE=image/jpeg:https://dq5pwpg1q8r
 u0.cloudfront.net/2026/04/17/03/15/57/d52901fc-b58a-4f7c-a82d-6ca996910d3f
 /Merilee-Lawson-2.jpg
END:VEVENT
END:VCALENDAR
